BEGIN:VCALENDAR
VERSION:2.0
PRODID:-//Tukios.com/
BEGIN:VEVENT
UID:7881abaf-e239-4ed3-96e4-1d2c49647c2b@www.mcginnis-chambers.com
DTSTAMP:20260424T174045Z
DTSTART:20260502T200000Z
DTEND:20260502T210000Z
SUMMARY:Celebration of Life
DESCRIPTION:
URL:https://www.mcginnis-chambers.com/obituaries/michael-meek
LOCATION:Three 33 Bar and Grill 333 River Drive  Princeton IA 52768
GEO:41.6756051;-90.3398715
END:VEVENT
END:VCALENDAR